BEGIN:VCALENDAR
VERSION:2.0
PRODID:itakvim.com
METHOD:PUBLISH
UID:472b2e8e-a53c-442c-5343-08de9f183112
X-WR-CALNAME:Gurme İzmir - Olivtech "12. Zeytin, Zeytinyağı, Süt Ürünleri, Şarap Ve Teknolojileri Fuarı"
X-ITAKVIM-LANGUAGE:tr
X-ITAKVIM-REGION:TR
CALSCALE:GREGORIAN
BEGIN:VEVENT
UID:472b2e8e-a53c-442c-5343-08de9f183112
DTSTAMP:20260420T200816Z
DTSTART:20260430T060000Z
DTEND:20260502T150000Z
TRANSP:TRANSPARENT
STATUS:CONFIRMED
SUMMARY:Gurme İzmir - Olivtech "12. Zeytin, Zeytinyağı, Süt Ürünleri, Şarap Ve Teknolojileri Fuarı"
DESCRIPTION:İzfaş İzmir Fuarcılık Hizmetleri Kültür Ve Sanat İşleri Ticaret Anonim Şirketi tarafından düzenlenen zeytin, zeytinyağı, süt ürünleri, şarap ve teknolojileri konulu fuarda görüşmek üzere: 

Web:www.izfas.com.tr
E-Posta: muhasebe@izmirfair.com.tr
LOCATION:Fuarizmir - Yeni Fuar Alanı
END:VEVENT
END:VCALENDAR
