BEGIN:VCALENDAR
VERSION:2.0
PRODID:itakvim.com
METHOD:PUBLISH
UID:47c7b354-404b-4582-5105-08de9f183112
X-WR-CALNAME:Hollanda Grand Prix'si Sprint
X-ITAKVIM-LANGUAGE:tr
X-ITAKVIM-REGION:TR
CALSCALE:GREGORIAN
BEGIN:VEVENT
UID:47c7b354-404b-4582-5105-08de9f183112
DTSTAMP:20260420T200718Z
DTSTART:20260822T100000Z
DTEND:20260822T100000Z
TRANSP:TRANSPARENT
STATUS:CONFIRMED
SUMMARY:Hollanda Grand Prix'si Sprint
END:VEVENT
END:VCALENDAR
