BEGIN:VCALENDAR
VERSION:2.0
PRODID:itakvim.com
METHOD:PUBLISH
UID:47ea6c93-ca36-414f-536f-08de9f183112
X-WR-CALNAME:Agroayvalık Kuzey Ege Tarım Ve Hayvancılık Fuarı
X-ITAKVIM-LANGUAGE:tr
X-ITAKVIM-REGION:TR
CALSCALE:GREGORIAN
BEGIN:VEVENT
UID:47ea6c93-ca36-414f-536f-08de9f183112
DTSTAMP:20260420T200816Z
DTSTART:20260515T060000Z
DTEND:20260518T150000Z
TRANSP:TRANSPARENT
STATUS:CONFIRMED
SUMMARY:Agroayvalık Kuzey Ege Tarım Ve Hayvancılık Fuarı
DESCRIPTION:Kare Fuar Organizasyon Tanıtım Limited Şirketi tarafından düzenlenen tarım, tarımsal mekanizasyon, sera, fidan, tohum, hayvancılık teknolojileri, depolama, konulu fuarda görüşmek üzere: 

Web:www.agroayvalik.com
E-Posta: ercument.er@karefuar.com
LOCATION:Ayvalık Belediyesi Altınova Kapalı Pazar Alanı
END:VEVENT
END:VCALENDAR
