BEGIN:VCALENDAR
VERSION:2.0
PRODID:itakvim.com
METHOD:PUBLISH
UID:48f3ec98-1176-4967-52e0-08de9f183112
X-WR-CALNAME:Avrasya Cam 2026 - 16. Uluslararası Cam Ürünleri Ve Uygulamaları, Üretim-İşleme Teknolojileri Ve Makineleri, Tamamlayıcı Ürün Ve Kimyasalları Fuarı
X-ITAKVIM-LANGUAGE:tr
X-ITAKVIM-REGION:TR
CALSCALE:GREGORIAN
BEGIN:VEVENT
UID:48f3ec98-1176-4967-52e0-08de9f183112
DTSTAMP:20260420T200816Z
DTSTART:20261121T060000Z
DTEND:20261124T150000Z
TRANSP:TRANSPARENT
STATUS:CONFIRMED
SUMMARY:Avrasya Cam 2026 - 16. Uluslararası Cam Ürünleri Ve Uygulamaları, Üretim-İşleme Teknolojileri Ve Makineleri, Tamamlayıcı Ürün Ve Kimyasalları Fuarı
DESCRIPTION:Reed Tüyap Fuarcılık Anonim Şirketi tarafından düzenlenen cam ürünleri, uygulamaları, üretim İşleme teknolojileri ve makineleri, tamamlayıcı ürün ve kimyasalları konulu fuarda görüşmek üzere: 

Web:www.tuyap.com.tr
E-Posta: isilgordi@hotmail.com
LOCATION:Tüyap Fuar Ve Kongre Merkezi
END:VEVENT
END:VCALENDAR
