BEGIN:VCALENDAR
VERSION:2.0
PRODID:itakvim.com
METHOD:PUBLISH
UID:49333203-2a84-4e5c-5283-08de9f183112
X-WR-CALNAME:Wın Eurasia 2026
X-ITAKVIM-LANGUAGE:tr
X-ITAKVIM-REGION:TR
CALSCALE:GREGORIAN
BEGIN:VEVENT
UID:49333203-2a84-4e5c-5283-08de9f183112
DTSTAMP:20260420T200816Z
DTSTART:20260610T060000Z
DTEND:20260613T150000Z
TRANSP:TRANSPARENT
STATUS:CONFIRMED
SUMMARY:Wın Eurasia 2026
DESCRIPTION:Hannover Faırs Turkey Fuarcılık Anonim Şirketi tarafından düzenlenen otomasyon, hidrolik, elektrik, elektronik, enerji otomasyonu, İmalat makinaları, kaynak konulu fuarda görüşmek üzere: 

Web:www.win-eurasia.com
E-Posta: info@hf-turkey.com
LOCATION:İstanbul Fuar Merkezi
END:VEVENT
END:VCALENDAR
