BEGIN:VCALENDAR
VERSION:2.0
PRODID:itakvim.com
METHOD:PUBLISH
UID:49558783-1d4b-4dd7-530c-08de9f183112
X-WR-CALNAME:Iccı - Uluslararası Enerji Ve Çevre Fuarı Ve Konferansı
X-ITAKVIM-LANGUAGE:tr
X-ITAKVIM-REGION:TR
CALSCALE:GREGORIAN
BEGIN:VEVENT
UID:49558783-1d4b-4dd7-530c-08de9f183112
DTSTAMP:20260420T200816Z
DTSTART:20260916T060000Z
DTEND:20260918T150000Z
TRANSP:TRANSPARENT
STATUS:CONFIRMED
SUMMARY:Iccı - Uluslararası Enerji Ve Çevre Fuarı Ve Konferansı
DESCRIPTION:Sektörel Fuarcılık A.Ş. tarafından düzenlenen enerji üretimi, İletimi depolama ve dağıtımı konulu fuarda görüşmek üzere: 

Web:www.icci.com.tr
E-Posta: info@sektorelfuarcilik.com
LOCATION:Dr. Mimar Kadir Topbaş Gösteri Ve Sanat Merkezi
END:VEVENT
END:VCALENDAR
