BEGIN:VCALENDAR
VERSION:2.0
PRODID:itakvim.com
METHOD:PUBLISH
UID:4989b1d4-2062-4fe2-cca0-08de9d98d356
X-WR-CALNAME:Merhaba Çocuk (+7)
X-ITAKVIM-LANGUAGE:tr
X-ITAKVIM-REGION:TR
CALSCALE:GREGORIAN
BEGIN:VEVENT
UID:4989b1d4-2062-4fe2-cca0-08de9d98d356
DTSTAMP:20260418T222122Z
DTSTART:20260423T100000Z
DTEND:20260423T100000Z
TRANSP:TRANSPARENT
STATUS:CONFIRMED
SUMMARY:Merhaba Çocuk (+7)
LOCATION:Harbiye Muhsin Ertuğrul Sahnesi
END:VEVENT
END:VCALENDAR
