BEGIN:VCALENDAR
VERSION:2.0
PRODID:itakvim.com
METHOD:PUBLISH
UID:49ba3d66-0886-492d-5247-08de9f183112
X-WR-CALNAME:24.Ankara Kitap Fuarı
X-ITAKVIM-LANGUAGE:tr
X-ITAKVIM-REGION:TR
CALSCALE:GREGORIAN
BEGIN:VEVENT
UID:49ba3d66-0886-492d-5247-08de9f183112
DTSTAMP:20260420T200817Z
DTSTART:20261204T060000Z
DTEND:20261213T150000Z
TRANSP:TRANSPARENT
STATUS:CONFIRMED
SUMMARY:24.Ankara Kitap Fuarı
DESCRIPTION:Eylül Fuar Organizasyon Sergi Ve Panayır Tanıtım Ticaret Limited Şirketi tarafından düzenlenen kitap ve süreli yayınlar konulu fuarda görüşmek üzere: 

Web:www.remfuar.com.tr
E-Posta: eylulfuarmuhasebe@gmail.com
LOCATION:Ankara Uluslararası Fuar Ve Kongre Merkezi
END:VEVENT
END:VCALENDAR
