BEGIN:VCALENDAR
VERSION:2.0
PRODID:itakvim.com
METHOD:PUBLISH
UID:4a725ddc-ce0e-4f17-4ef0-08de9f183112
X-WR-CALNAME:KPSS Kamu Personel Seçme Sınavı 2026-KPSS Lisans (Alan Bilgisi) 1. gün Sonuç
X-ITAKVIM-LANGUAGE:tr
X-ITAKVIM-REGION:TR
CALSCALE:GREGORIAN
BEGIN:VEVENT
UID:4a725ddc-ce0e-4f17-4ef0-08de9f183112
DTSTAMP:20260420T200538Z
DTSTART:20261006T210000Z
DTEND:20261006T210000Z
TRANSP:TRANSPARENT
STATUS:CONFIRMED
SUMMARY:KPSS Kamu Personel Seçme Sınavı 2026-KPSS Lisans (Alan Bilgisi) 1. gün Sonuç
END:VEVENT
END:VCALENDAR
