BEGIN:VCALENDAR
VERSION:2.0
PRODID:itakvim.com
METHOD:PUBLISH
UID:4cd10999-c91c-4eec-d2e8-08de9f271cd7
X-WR-CALNAME:2026 Yılı 1. Taksit Çevre Temizlik Vergisinin Taksit Ödemesi Son Gün
X-ITAKVIM-LANGUAGE:tr
X-ITAKVIM-REGION:TR
CALSCALE:GREGORIAN
BEGIN:VEVENT
UID:4cd10999-c91c-4eec-d2e8-08de9f271cd7
DTSTAMP:20260420T215235Z
DTSTART:20260601T140000Z
DTEND:20260601T140000Z
TRANSP:TRANSPARENT
STATUS:CONFIRMED
SUMMARY:2026 Yılı 1. Taksit Çevre Temizlik Vergisinin Taksit Ödemesi Son Gün
DESCRIPTION:2026 Yılı Çevre Temizlik Vergisinin 1. Taksit Ödemesi
END:VEVENT
END:VCALENDAR
