BEGIN:VCALENDAR
VERSION:2.0
PRODID:itakvim.com
METHOD:PUBLISH
UID:4d0c9e84-302d-4e74-4f07-08de9f183112
X-WR-CALNAME:KPSS Kamu Personel Seçme Sınavı 2026-KPSS Din Hizmetleri Alan Bilgisi Testi (DHBT) Geç Başvuru Bitiş
X-ITAKVIM-LANGUAGE:tr
X-ITAKVIM-REGION:TR
CALSCALE:GREGORIAN
BEGIN:VEVENT
UID:4d0c9e84-302d-4e74-4f07-08de9f183112
DTSTAMP:20260420T200538Z
DTSTART:20261005T205900Z
DTEND:20261005T205900Z
TRANSP:TRANSPARENT
STATUS:CONFIRMED
SUMMARY:KPSS Kamu Personel Seçme Sınavı 2026-KPSS Din Hizmetleri Alan Bilgisi Testi (DHBT) Geç Başvuru Bitiş
END:VEVENT
END:VCALENDAR
