BEGIN:VCALENDAR
VERSION:2.0
PRODID:itakvim.com
METHOD:PUBLISH
UID:4e7e931e-b1fa-4b82-52a7-08de9f183112
X-WR-CALNAME:5. Ev Charge Show - Elektrikli Araç Şarj Teknolojileri Ve Ekipmanları Fuarı
X-ITAKVIM-LANGUAGE:tr
X-ITAKVIM-REGION:TR
CALSCALE:GREGORIAN
BEGIN:VEVENT
UID:4e7e931e-b1fa-4b82-52a7-08de9f183112
DTSTAMP:20260420T200816Z
DTSTART:20261112T060000Z
DTEND:20261114T150000Z
TRANSP:TRANSPARENT
STATUS:CONFIRMED
SUMMARY:5. Ev Charge Show - Elektrikli Araç Şarj Teknolojileri Ve Ekipmanları Fuarı
DESCRIPTION:Voli Fuar Hizmetleri A.Ş. tarafından düzenlenen elektrikli araçları şarj etmek İçin üniteler konulu fuarda görüşmek üzere: 

Web:www.voli.com.tr
E-Posta: info@voli.com.tr
LOCATION:İstanbul Fuar Merkezi
END:VEVENT
END:VCALENDAR
