BEGIN:VCALENDAR
VERSION:2.0
PRODID:itakvim.com
METHOD:PUBLISH
UID:4ea5a6a4-b039-4e6e-4f15-08de9f183112
X-WR-CALNAME:ÖZYES YKS Kapsamında Spor Bilimleri İçin Özel Yetenek Sınavı 2026-ÖZYES Başvuru Bitiş
X-ITAKVIM-LANGUAGE:tr
X-ITAKVIM-REGION:TR
CALSCALE:GREGORIAN
BEGIN:VEVENT
UID:4ea5a6a4-b039-4e6e-4f15-08de9f183112
DTSTAMP:20260420T200538Z
DTSTART:20260727T210000Z
DTEND:20260727T210000Z
TRANSP:TRANSPARENT
STATUS:CONFIRMED
SUMMARY:ÖZYES YKS Kapsamında Spor Bilimleri İçin Özel Yetenek Sınavı 2026-ÖZYES Başvuru Bitiş
END:VEVENT
END:VCALENDAR
