BEGIN:VCALENDAR
VERSION:2.0
PRODID:itakvim.com
METHOD:PUBLISH
UID:4ebc3bec-ec4f-4cd4-4fb6-08de9f183112
X-WR-CALNAME:TUS Tıpta Uzmanlık Eğitimi Giriş Sınavı 2026-TUS 2. Dönem Sınav
X-ITAKVIM-LANGUAGE:tr
X-ITAKVIM-REGION:TR
CALSCALE:GREGORIAN
BEGIN:VEVENT
UID:4ebc3bec-ec4f-4cd4-4fb6-08de9f183112
DTSTAMP:20260420T200538Z
DTSTART:20260822T210000Z
DTEND:20260822T210000Z
TRANSP:TRANSPARENT
STATUS:CONFIRMED
SUMMARY:TUS Tıpta Uzmanlık Eğitimi Giriş Sınavı 2026-TUS 2. Dönem Sınav
END:VEVENT
END:VCALENDAR
