BEGIN:VCALENDAR
VERSION:2.0
PRODID:itakvim.com
METHOD:PUBLISH
UID:4f933975-9369-4cf4-50f3-08de9f183112
X-WR-CALNAME:Avusturya Grand Prix'si Yarış
X-ITAKVIM-LANGUAGE:tr
X-ITAKVIM-REGION:TR
CALSCALE:GREGORIAN
BEGIN:VEVENT
UID:4f933975-9369-4cf4-50f3-08de9f183112
DTSTAMP:20260420T200718Z
DTSTART:20260628T130000Z
DTEND:20260628T130000Z
TRANSP:TRANSPARENT
STATUS:CONFIRMED
SUMMARY:Avusturya Grand Prix'si Yarış
END:VEVENT
END:VCALENDAR
