BEGIN:VCALENDAR
VERSION:2.0
PRODID:itakvim.com
METHOD:PUBLISH
UID:4ff958a1-730f-4180-50fd-08de9f183112
X-WR-CALNAME:Belçika Grand Prix'si Yarış
X-ITAKVIM-LANGUAGE:tr
X-ITAKVIM-REGION:TR
CALSCALE:GREGORIAN
BEGIN:VEVENT
UID:4ff958a1-730f-4180-50fd-08de9f183112
DTSTAMP:20260420T200718Z
DTSTART:20260719T130000Z
DTEND:20260719T130000Z
TRANSP:TRANSPARENT
STATUS:CONFIRMED
SUMMARY:Belçika Grand Prix'si Yarış
END:VEVENT
END:VCALENDAR
