BEGIN:VCALENDAR
VERSION:2.0
PRODID:itakvim.com
METHOD:PUBLISH
UID:50274fcd-ebf5-40ab-dd53-08de9c03c470
X-WR-CALNAME:GÖZTEPE A.Ş. - GAZİANTEP FUTBOL KULÜBÜ A.Ş.
X-ITAKVIM-LANGUAGE:tr
X-ITAKVIM-REGION:TR
CALSCALE:GREGORIAN
BEGIN:VEVENT
UID:50274fcd-ebf5-40ab-dd53-08de9c03c470
DTSTAMP:20260416T220746Z
DTSTART:20260509T210000Z
DTEND:20260509T210000Z
TRANSP:TRANSPARENT
STATUS:CONFIRMED
SUMMARY:GÖZTEPE A.Ş. - GAZİANTEP FUTBOL KULÜBÜ A.Ş.
LOCATION:ISONEM PARK GÜRSEL AKSEL SPOR VE SAĞLIKLI YAŞAM M.
END:VEVENT
END:VCALENDAR
