BEGIN:VCALENDAR
VERSION:2.0
PRODID:itakvim.com
METHOD:PUBLISH
UID:5076d6f5-1560-4d7b-5290-08de9f183112
X-WR-CALNAME:Promosyon Show İstanbul Fuarı
X-ITAKVIM-LANGUAGE:tr
X-ITAKVIM-REGION:TR
CALSCALE:GREGORIAN
BEGIN:VEVENT
UID:5076d6f5-1560-4d7b-5290-08de9f183112
DTSTAMP:20260420T200816Z
DTSTART:20260909T060000Z
DTEND:20260912T150000Z
TRANSP:TRANSPARENT
STATUS:CONFIRMED
SUMMARY:Promosyon Show İstanbul Fuarı
DESCRIPTION:Promo Fuarcılık Ticaret Limited Şirketi tarafından düzenlenen promosyon pazarlama, reklamcılık, tasarım konulu fuarda görüşmek üzere: 

Web:www.promosyonshow.com
E-Posta: s.arslan@promofuar.com
LOCATION:İstanbul Fuar Merkezi
END:VEVENT
END:VCALENDAR
