BEGIN:VCALENDAR
VERSION:2.0
PRODID:itakvim.com
METHOD:PUBLISH
UID:508dc7b6-35c7-4d33-4fbb-08de9f183112
X-WR-CALNAME:TUS Tıpta Uzmanlık Eğitimi Giriş Sınavı 2026-TUS 2. Dönem Sonuç
X-ITAKVIM-LANGUAGE:tr
X-ITAKVIM-REGION:TR
CALSCALE:GREGORIAN
BEGIN:VEVENT
UID:508dc7b6-35c7-4d33-4fbb-08de9f183112
DTSTAMP:20260420T200538Z
DTSTART:20260916T210000Z
DTEND:20260916T210000Z
TRANSP:TRANSPARENT
STATUS:CONFIRMED
SUMMARY:TUS Tıpta Uzmanlık Eğitimi Giriş Sınavı 2026-TUS 2. Dönem Sonuç
END:VEVENT
END:VCALENDAR
