BEGIN:VCALENDAR
VERSION:2.0
PRODID:itakvim.com
METHOD:PUBLISH
UID:51d0ab0c-891c-49dc-5296-08de9f183112
X-WR-CALNAME:Fdı Furnıshıngs And Desıgn Istanbul (Mobilya Tasarım Fuarı)
X-ITAKVIM-LANGUAGE:tr
X-ITAKVIM-REGION:TR
CALSCALE:GREGORIAN
BEGIN:VEVENT
UID:51d0ab0c-891c-49dc-5296-08de9f183112
DTSTAMP:20260420T200816Z
DTSTART:20260924T060000Z
DTEND:20260926T150000Z
TRANSP:TRANSPARENT
STATUS:CONFIRMED
SUMMARY:Fdı Furnıshıngs And Desıgn Istanbul (Mobilya Tasarım Fuarı)
DESCRIPTION:Mos Fuarcılık Anonim Şirketi tarafından düzenlenen ev ofis mobilyaları, dekorasyon üniteleri, aksesuarlar,tasarım konulu fuarda görüşmek üzere: 

Web:www.fdistanbul.com
E-Posta: bilgi@mosfed.com;elif.kaya@mosfuarcilik.com
LOCATION:İstanbul Fuar Merkezi
END:VEVENT
END:VCALENDAR
