BEGIN:VCALENDAR
VERSION:2.0
PRODID:itakvim.com
METHOD:PUBLISH
UID:53015b18-5d92-41a8-cc7b-08de9d98d356
X-WR-CALNAME:Haramiler
X-ITAKVIM-LANGUAGE:tr
X-ITAKVIM-REGION:TR
CALSCALE:GREGORIAN
BEGIN:VEVENT
UID:53015b18-5d92-41a8-cc7b-08de9d98d356
DTSTAMP:20260418T222121Z
DTSTART:20260429T170000Z
DTEND:20260429T170000Z
TRANSP:TRANSPARENT
STATUS:CONFIRMED
SUMMARY:Haramiler
LOCATION:Kağıthane Sadabad Sahnesi
END:VEVENT
END:VCALENDAR
