BEGIN:VCALENDAR
VERSION:2.0
PRODID:itakvim.com
METHOD:PUBLISH
UID:5332fa24-f752-46a1-517c-08de9f183112
X-WR-CALNAME:Bahar Yarıyılı Sonu/Staj/ Mazeret/ Bitirme Tasarım Projesi Sınavı/Ek Sınav 1/Ek Sınav 2 Notları Son Giriş Tarihi
X-ITAKVIM-LANGUAGE:tr
X-ITAKVIM-REGION:TR
CALSCALE:GREGORIAN
BEGIN:VEVENT
UID:5332fa24-f752-46a1-517c-08de9f183112
DTSTAMP:20260420T200724Z
DTSTART:20260620T210000Z
DTEND:20260621T110000Z
TRANSP:TRANSPARENT
STATUS:CONFIRMED
SUMMARY:Bahar Yarıyılı Sonu/Staj/ Mazeret/ Bitirme Tasarım Projesi Sınavı/Ek Sınav 1/Ek Sınav 2 Notları Son Giriş Tarihi
END:VEVENT
END:VCALENDAR
