BEGIN:VCALENDAR
VERSION:2.0
PRODID:itakvim.com
METHOD:PUBLISH
UID:5349d84c-05d0-43ef-4fd6-08de9f183112
X-WR-CALNAME:AŞURE GÜNÜ
X-ITAKVIM-LANGUAGE:tr
X-ITAKVIM-REGION:TR
CALSCALE:GREGORIAN
BEGIN:VEVENT
UID:5349d84c-05d0-43ef-4fd6-08de9f183112
DTSTAMP:20260420T200611Z
DTSTART:20260624T210000Z
DTEND:20260624T210000Z
TRANSP:TRANSPARENT
STATUS:CONFIRMED
SUMMARY:AŞURE GÜNÜ
END:VEVENT
END:VCALENDAR
