BEGIN:VCALENDAR
VERSION:2.0
PRODID:itakvim.com
METHOD:PUBLISH
UID:54318835-e635-4838-52a2-08de9f183112
X-WR-CALNAME:Ankiros 17. Uluslararası Demir-Çelik, Döküm, Demirdışı Metalürji Teknolojileri, Makine Ve Ürünleri İhtisas Fuarı
X-ITAKVIM-LANGUAGE:tr
X-ITAKVIM-REGION:TR
CALSCALE:GREGORIAN
BEGIN:VEVENT
UID:54318835-e635-4838-52a2-08de9f183112
DTSTAMP:20260420T200816Z
DTSTART:20261022T060000Z
DTEND:20261024T150000Z
TRANSP:TRANSPARENT
STATUS:CONFIRMED
SUMMARY:Ankiros 17. Uluslararası Demir-Çelik, Döküm, Demirdışı Metalürji Teknolojileri, Makine Ve Ürünleri İhtisas Fuarı
DESCRIPTION:Hannover Messe Ankiros Fuarcılık Anonim Şirketi tarafından düzenlenen demir-çelik, döküm ve demirdışı metaller teknolojileri, mikina ve ekipmanları konulu fuarda görüşmek üzere: 

Web:www.hmankiros.com
E-Posta: info@ankiros.com
LOCATION:İstanbul Fuar Merkezi
END:VEVENT
END:VCALENDAR
