BEGIN:VCALENDAR
VERSION:2.0
PRODID:itakvim.com
METHOD:PUBLISH
UID:544f1fd9-245c-430c-d2f0-08de9f271cd7
X-WR-CALNAME:Ocak-Şubat-Mart 2026 Dönemi Katma Değer Vergisinin Beyan ve Ödemesi Son Gün
X-ITAKVIM-LANGUAGE:tr
X-ITAKVIM-REGION:TR
CALSCALE:GREGORIAN
BEGIN:VEVENT
UID:544f1fd9-245c-430c-d2f0-08de9f271cd7
DTSTAMP:20260420T215235Z
DTSTART:20260428T140000Z
DTEND:20260428T140000Z
TRANSP:TRANSPARENT
STATUS:CONFIRMED
SUMMARY:Ocak-Şubat-Mart 2026 Dönemi Katma Değer Vergisinin Beyan ve Ödemesi Son Gün
DESCRIPTION:Ocak-Şubat-Mart 2026 Dönemine Ait Katma Değer Vergisinin Beyanı ve Ödemesi
END:VEVENT
END:VCALENDAR
