BEGIN:VCALENDAR
VERSION:2.0
PRODID:itakvim.com
METHOD:PUBLISH
UID:5597cef2-9170-4f84-510c-08de9f183112
X-WR-CALNAME:İtalya Grand Prix'si Yarış
X-ITAKVIM-LANGUAGE:tr
X-ITAKVIM-REGION:TR
CALSCALE:GREGORIAN
BEGIN:VEVENT
UID:5597cef2-9170-4f84-510c-08de9f183112
DTSTAMP:20260420T200718Z
DTSTART:20260906T130000Z
DTEND:20260906T130000Z
TRANSP:TRANSPARENT
STATUS:CONFIRMED
SUMMARY:İtalya Grand Prix'si Yarış
END:VEVENT
END:VCALENDAR
