BEGIN:VCALENDAR
VERSION:2.0
PRODID:itakvim.com
METHOD:PUBLISH
UID:55b274f1-f3ef-4dcb-4fb7-08de9f183112
X-WR-CALNAME:TUS Tıpta Uzmanlık Eğitimi Giriş Sınavı 2026-TUS 2. Dönem Başvuru Başlangıç
X-ITAKVIM-LANGUAGE:tr
X-ITAKVIM-REGION:TR
CALSCALE:GREGORIAN
BEGIN:VEVENT
UID:55b274f1-f3ef-4dcb-4fb7-08de9f183112
DTSTAMP:20260420T200538Z
DTSTART:20260707T210000Z
DTEND:20260707T210000Z
TRANSP:TRANSPARENT
STATUS:CONFIRMED
SUMMARY:TUS Tıpta Uzmanlık Eğitimi Giriş Sınavı 2026-TUS 2. Dönem Başvuru Başlangıç
END:VEVENT
END:VCALENDAR
