BEGIN:VCALENDAR
VERSION:2.0
PRODID:itakvim.com
METHOD:PUBLISH
UID:56e08c13-a391-457e-525d-08de9f183112
X-WR-CALNAME:Cıtytech 15.Çevre, Şehircilik Ve Belediye Fuarı
X-ITAKVIM-LANGUAGE:tr
X-ITAKVIM-REGION:TR
CALSCALE:GREGORIAN
BEGIN:VEVENT
UID:56e08c13-a391-457e-525d-08de9f183112
DTSTAMP:20260420T200816Z
DTSTART:20260923T060000Z
DTEND:20260926T150000Z
TRANSP:TRANSPARENT
STATUS:CONFIRMED
SUMMARY:Cıtytech 15.Çevre, Şehircilik Ve Belediye Fuarı
DESCRIPTION:Ankaexpo Uluslararası Fuar Tanıtım Organizasyon Anonim Şirketi tarafından düzenlenen çevre, şehircilik ve belediye ekipmanları, geri dönüşüm teknolojileri, yenilenebilir enerji konulu fuarda görüşmek üzere: 

Web:www.ankaexpo.com.tr
E-Posta: info@ankaexpo.com.tr
LOCATION:Başkent Milllet Bahçesi (Akm) Fuar Alanı
END:VEVENT
END:VCALENDAR
