BEGIN:VCALENDAR
VERSION:2.0
PRODID:itakvim.com
METHOD:PUBLISH
UID:575b1eb8-ab73-4e1e-50f8-08de9f183112
X-WR-CALNAME:Britanya Grand Prix'si Yarış
X-ITAKVIM-LANGUAGE:tr
X-ITAKVIM-REGION:TR
CALSCALE:GREGORIAN
BEGIN:VEVENT
UID:575b1eb8-ab73-4e1e-50f8-08de9f183112
DTSTAMP:20260420T200718Z
DTSTART:20260705T140000Z
DTEND:20260705T140000Z
TRANSP:TRANSPARENT
STATUS:CONFIRMED
SUMMARY:Britanya Grand Prix'si Yarış
END:VEVENT
END:VCALENDAR
