BEGIN:VCALENDAR
VERSION:2.0
PRODID:itakvim.com
METHOD:PUBLISH
UID:57b620d7-ef3e-42b5-5286-08de9f183112
X-WR-CALNAME:Powder & Dosıng Expo 2026
X-ITAKVIM-LANGUAGE:tr
X-ITAKVIM-REGION:TR
CALSCALE:GREGORIAN
BEGIN:VEVENT
UID:57b620d7-ef3e-42b5-5286-08de9f183112
DTSTAMP:20260420T200816Z
DTSTART:20260617T060000Z
DTEND:20260619T150000Z
TRANSP:TRANSPARENT
STATUS:CONFIRMED
SUMMARY:Powder & Dosıng Expo 2026
DESCRIPTION:Cng Fuarcılık Ve Tanıtım Hizmetleri Anonim Şirketi tarafından düzenlenen toz, katı, dökme hammaddelerin İşlenmesi ve dozajlamasına yönelik teknoloji ve ekipmanlar fuarı konulu fuarda görüşmek üzere: 

Web:powderdosingexpo.com
E-Posta: info@cngexpo.com
LOCATION:İstanbul Fuar Merkezi
END:VEVENT
END:VCALENDAR
