BEGIN:VCALENDAR
VERSION:2.0
PRODID:itakvim.com
METHOD:PUBLISH
UID:57fdcfcc-b824-44d5-5299-08de9f183112
X-WR-CALNAME:Data Center Eurasia
X-ITAKVIM-LANGUAGE:tr
X-ITAKVIM-REGION:TR
CALSCALE:GREGORIAN
BEGIN:VEVENT
UID:57fdcfcc-b824-44d5-5299-08de9f183112
DTSTAMP:20260420T200816Z
DTSTART:20261007T060000Z
DTEND:20261010T150000Z
TRANSP:TRANSPARENT
STATUS:CONFIRMED
SUMMARY:Data Center Eurasia
DESCRIPTION:Marmara Tanıtım Fuarcılık Organizasyon Reklam Ve Ticaret Anonim Şirketi tarafından düzenlenen 2.veri merkezi, altyapı ve dijital teknolojiler fuarı konulu fuarda görüşmek üzere: 

Web:www.datacentereurasia.com
E-Posta: marmara@marmarafuar.com.tr
LOCATION:İstanbul Fuar Merkezi
END:VEVENT
END:VCALENDAR
