BEGIN:VCALENDAR
VERSION:2.0
PRODID:itakvim.com
METHOD:PUBLISH
UID:58178f37-9fcf-452e-d2c6-08de9f271cd7
X-WR-CALNAME:2025 Yılı Gerçek Faydalanıcı Bildirim Formu Son Gün
X-ITAKVIM-LANGUAGE:tr
X-ITAKVIM-REGION:TR
CALSCALE:GREGORIAN
BEGIN:VEVENT
UID:58178f37-9fcf-452e-d2c6-08de9f271cd7
DTSTAMP:20260420T215235Z
DTSTART:20260831T140000Z
DTEND:20260831T140000Z
TRANSP:TRANSPARENT
STATUS:CONFIRMED
SUMMARY:2025 Yılı Gerçek Faydalanıcı Bildirim Formu Son Gün
DESCRIPTION:Kurumlar Vergisi Mükellefleri Dışında Kalan Diğer Mükellefler ile Diğer Kişiler Tarafından Gerçek Faydalanıcıya İlişkin Bildirim Formunun Verilmesi
END:VEVENT
END:VCALENDAR
