BEGIN:VCALENDAR
VERSION:2.0
PRODID:itakvim.com
METHOD:PUBLISH
UID:5822c1e2-5dce-4d46-4f72-08de9f183112
X-WR-CALNAME:STS Öğretmenlik Öğretmenlik Meslek Bilgisi Alanında Yurt Dışı Yükseköğretim Diploma Denkliği İçin Seviye Tespit Sınavı 2026-STS Öğretmenlik Geç Başvuru Bitiş
X-ITAKVIM-LANGUAGE:tr
X-ITAKVIM-REGION:TR
CALSCALE:GREGORIAN
BEGIN:VEVENT
UID:5822c1e2-5dce-4d46-4f72-08de9f183112
DTSTAMP:20260420T200538Z
DTSTART:20260513T205900Z
DTEND:20260513T205900Z
TRANSP:TRANSPARENT
STATUS:CONFIRMED
SUMMARY:STS Öğretmenlik Öğretmenlik Meslek Bilgisi Alanında Yurt Dışı Yükseköğretim Diploma Denkliği İçin Seviye Tespit Sınavı 2026-STS Öğretmenlik Geç Başvuru Bitiş
END:VEVENT
END:VCALENDAR
