BEGIN:VCALENDAR
VERSION:2.0
PRODID:itakvim.com
METHOD:PUBLISH
UID:58f22015-8376-4b3d-59bf-08de9f8ee600
X-WR-CALNAME:5.Ankara Beautylıfe Expo Estetik Güzellik Kozmetik Fuarı
X-ITAKVIM-LANGUAGE:tr
X-ITAKVIM-REGION:TR
CALSCALE:GREGORIAN
BEGIN:VEVENT
UID:58f22015-8376-4b3d-59bf-08de9f8ee600
DTSTAMP:20260421T101545Z
DTSTART:20261030T060000Z
DTEND:20261101T150000Z
TRANSP:TRANSPARENT
STATUS:CONFIRMED
SUMMARY:5.Ankara Beautylıfe Expo Estetik Güzellik Kozmetik Fuarı
DESCRIPTION:Us Fuarcılık Ve Organizasyon Ltd. Şti. tarafından düzenlenen güzellik&bakım,kozmetik,spa &sağlık ve  estetik konulu fuarda görüşmek üzere: 

Web:www.usfuar.com
E-Posta: info@usfuar.com
LOCATION:Ato Kongre Ve Sergi Sarayı 'Congresıum'
END:VEVENT
END:VCALENDAR
