BEGIN:VCALENDAR
VERSION:2.0
PRODID:itakvim.com
METHOD:PUBLISH
UID:59537a4f-ce0d-4eb5-52d1-08de9f183112
X-WR-CALNAME:48. Yapı Fuarı - Turkeybuild İstanbul 2026 (Yapı Fuarı'nda Hırdavat Özel Bölümü İle)
X-ITAKVIM-LANGUAGE:tr
X-ITAKVIM-REGION:TR
CALSCALE:GREGORIAN
BEGIN:VEVENT
UID:59537a4f-ce0d-4eb5-52d1-08de9f183112
DTSTAMP:20260420T200816Z
DTSTART:20260427T060000Z
DTEND:20260430T150000Z
TRANSP:TRANSPARENT
STATUS:CONFIRMED
SUMMARY:48. Yapı Fuarı - Turkeybuild İstanbul 2026 (Yapı Fuarı'nda Hırdavat Özel Bölümü İle)
DESCRIPTION:Ica Buıld Fuarcılık Anonim Şirketi tarafından düzenlenen yapı, İnşaat malzemeleri ve teknolojileri fuarı konulu fuarda görüşmek üzere: 

Web:www.icaevents.com.tr
E-Posta: info.turkey@icaevents.com.tr
LOCATION:Tüyap Fuar Ve Kongre Merkezi
END:VEVENT
END:VCALENDAR
