BEGIN:VCALENDAR
VERSION:2.0
PRODID:itakvim.com
METHOD:PUBLISH
UID:598061f4-e084-4a56-d60c-08de9fecec0c
X-WR-CALNAME:e-YDS Elektronik Yabancı Dil Sınavı (e-YDS 2026/10 İngilizce) *** Sınav
X-ITAKVIM-LANGUAGE:tr
X-ITAKVIM-REGION:TR
CALSCALE:GREGORIAN
BEGIN:VEVENT
UID:598061f4-e084-4a56-d60c-08de9fecec0c
DTSTAMP:20260421T212824Z
DTSTART:20260925T210000Z
DTEND:20260925T210000Z
TRANSP:TRANSPARENT
STATUS:CONFIRMED
SUMMARY:e-YDS Elektronik Yabancı Dil Sınavı (e-YDS 2026/10 İngilizce) *** Sınav
END:VEVENT
END:VCALENDAR
