BEGIN:VCALENDAR
VERSION:2.0
PRODID:itakvim.com
METHOD:PUBLISH
UID:59a2b84e-47d7-43df-4eb3-08de9f183112
X-WR-CALNAME:İYÖS İdari Yargı Ön Sınavı 2026-İYÖS Geç Başvuru Bitiş
X-ITAKVIM-LANGUAGE:tr
X-ITAKVIM-REGION:TR
CALSCALE:GREGORIAN
BEGIN:VEVENT
UID:59a2b84e-47d7-43df-4eb3-08de9f183112
DTSTAMP:20260420T200538Z
DTSTART:20260826T205900Z
DTEND:20260826T205900Z
TRANSP:TRANSPARENT
STATUS:CONFIRMED
SUMMARY:İYÖS İdari Yargı Ön Sınavı 2026-İYÖS Geç Başvuru Bitiş
END:VEVENT
END:VCALENDAR
