BEGIN:VCALENDAR
VERSION:2.0
PRODID:itakvim.com
METHOD:PUBLISH
UID:5a6d85aa-de2f-4366-523b-08de9f183112
X-WR-CALNAME:Bahar Yarıyılı Sonunda Azami Öğrenim Süresi Sona Erecek Lisansüstü Öğrenciler için Tez Teslimi Son Tarihi
X-ITAKVIM-LANGUAGE:tr
X-ITAKVIM-REGION:TR
CALSCALE:GREGORIAN
BEGIN:VEVENT
UID:5a6d85aa-de2f-4366-523b-08de9f183112
DTSTAMP:20260420T200724Z
DTSTART:20260827T210000Z
DTEND:20260827T210000Z
TRANSP:TRANSPARENT
STATUS:CONFIRMED
SUMMARY:Bahar Yarıyılı Sonunda Azami Öğrenim Süresi Sona Erecek Lisansüstü Öğrenciler için Tez Teslimi Son Tarihi
END:VEVENT
END:VCALENDAR
