BEGIN:VCALENDAR
VERSION:2.0
PRODID:itakvim.com
METHOD:PUBLISH
UID:5a76f4e1-4487-4b26-50fa-08de9f183112
X-WR-CALNAME:Belçika Grand Prix'si İkinci antrenman
X-ITAKVIM-LANGUAGE:tr
X-ITAKVIM-REGION:TR
CALSCALE:GREGORIAN
BEGIN:VEVENT
UID:5a76f4e1-4487-4b26-50fa-08de9f183112
DTSTAMP:20260420T200718Z
DTSTART:20260717T150000Z
DTEND:20260717T150000Z
TRANSP:TRANSPARENT
STATUS:CONFIRMED
SUMMARY:Belçika Grand Prix'si İkinci antrenman
END:VEVENT
END:VCALENDAR
