BEGIN:VCALENDAR
VERSION:2.0
PRODID:itakvim.com
METHOD:PUBLISH
UID:5ac9dca1-a3d0-49a6-5a4c-08de9f8ee600
X-WR-CALNAME:Gaziantep Jewellery Show
X-ITAKVIM-LANGUAGE:tr
X-ITAKVIM-REGION:TR
CALSCALE:GREGORIAN
BEGIN:VEVENT
UID:5ac9dca1-a3d0-49a6-5a4c-08de9f8ee600
DTSTAMP:20260421T101546Z
DTSTART:20260626T060000Z
DTEND:20260628T150000Z
TRANSP:TRANSPARENT
STATUS:CONFIRMED
SUMMARY:Gaziantep Jewellery Show
DESCRIPTION:Eslem Fuar Ve Organizasyon Hizmetleri Ticaret Limited Şirketi tarafından düzenlenen altın, pırlanta, gümüş, malzeme ve saat konulu fuarda görüşmek üzere: 

Web:www.esfafuar.com.tr
E-Posta: faruk@esfafuar.com.tr
LOCATION:Shımall Deluxe Hotel & Kongre Merkezi (Shımall Hotel Conventıon Center)
END:VEVENT
END:VCALENDAR
