BEGIN:VCALENDAR
VERSION:2.0
PRODID:itakvim.com
METHOD:PUBLISH
UID:5baa52c0-2275-4170-4f11-08de9f183112
X-WR-CALNAME:EKPSS Engelli Kamu Personeli Seçme Sınavı 2026-EKPSS/KURA Geç Başvuru Başlangıç
X-ITAKVIM-LANGUAGE:tr
X-ITAKVIM-REGION:TR
CALSCALE:GREGORIAN
BEGIN:VEVENT
UID:5baa52c0-2275-4170-4f11-08de9f183112
DTSTAMP:20260420T200538Z
DTSTART:20260602T210000Z
DTEND:20260602T210000Z
TRANSP:TRANSPARENT
STATUS:CONFIRMED
SUMMARY:EKPSS Engelli Kamu Personeli Seçme Sınavı 2026-EKPSS/KURA Geç Başvuru Başlangıç
END:VEVENT
END:VCALENDAR
