BEGIN:VCALENDAR
VERSION:2.0
PRODID:itakvim.com
METHOD:PUBLISH
UID:5bb10d75-f041-49e0-50e7-08de9f183112
X-WR-CALNAME:Monako Grand Prix'si Üçüncü antrenman
X-ITAKVIM-LANGUAGE:tr
X-ITAKVIM-REGION:TR
CALSCALE:GREGORIAN
BEGIN:VEVENT
UID:5bb10d75-f041-49e0-50e7-08de9f183112
DTSTAMP:20260420T200718Z
DTSTART:20260606T103000Z
DTEND:20260606T103000Z
TRANSP:TRANSPARENT
STATUS:CONFIRMED
SUMMARY:Monako Grand Prix'si Üçüncü antrenman
END:VEVENT
END:VCALENDAR
