BEGIN:VCALENDAR
VERSION:2.0
PRODID:itakvim.com
METHOD:PUBLISH
UID:5c260233-9286-4274-4f83-08de9f183112
X-WR-CALNAME:BKUBTS Tarım ve Orman Bakanlığı Bitki Koruma Ürünleri Bayi ve Toptancılık Yazılı Sınavı 2026-BKUBTS Geç Başvuru Başlangıç
X-ITAKVIM-LANGUAGE:tr
X-ITAKVIM-REGION:TR
CALSCALE:GREGORIAN
BEGIN:VEVENT
UID:5c260233-9286-4274-4f83-08de9f183112
DTSTAMP:20260420T200538Z
DTSTART:20260916T210000Z
DTEND:20260916T210000Z
TRANSP:TRANSPARENT
STATUS:CONFIRMED
SUMMARY:BKUBTS Tarım ve Orman Bakanlığı Bitki Koruma Ürünleri Bayi ve Toptancılık Yazılı Sınavı 2026-BKUBTS Geç Başvuru Başlangıç
END:VEVENT
END:VCALENDAR
