BEGIN:VCALENDAR
VERSION:2.0
PRODID:itakvim.com
METHOD:PUBLISH
UID:5c3bc6d7-ab17-40a1-51c9-08de9f183112
X-WR-CALNAME:Ücretlerini Yatırmayan Öğrencilerin Ders Kayıtlarının Silinmesi
X-ITAKVIM-LANGUAGE:tr
X-ITAKVIM-REGION:TR
CALSCALE:GREGORIAN
BEGIN:VEVENT
UID:5c3bc6d7-ab17-40a1-51c9-08de9f183112
DTSTAMP:20260420T200724Z
DTSTART:20260702T210000Z
DTEND:20260702T210000Z
TRANSP:TRANSPARENT
STATUS:CONFIRMED
SUMMARY:Ücretlerini Yatırmayan Öğrencilerin Ders Kayıtlarının Silinmesi
END:VEVENT
END:VCALENDAR
