BEGIN:VCALENDAR
VERSION:2.0
PRODID:itakvim.com
METHOD:PUBLISH
UID:5c405d11-af62-47db-529f-08de9f183112
X-WR-CALNAME:Aymod Uluslararası Ayakkabı Moda Fuarı
X-ITAKVIM-LANGUAGE:tr
X-ITAKVIM-REGION:TR
CALSCALE:GREGORIAN
BEGIN:VEVENT
UID:5c405d11-af62-47db-529f-08de9f183112
DTSTAMP:20260420T200816Z
DTSTART:20261007T060000Z
DTEND:20261010T150000Z
TRANSP:TRANSPARENT
STATUS:CONFIRMED
SUMMARY:Aymod Uluslararası Ayakkabı Moda Fuarı
DESCRIPTION:Tasd Fuarcılık A.Ş. tarafından düzenlenen ayakkabılar, çantalar, kemerler, cüzdanlar, kurum, mümessilikler ve dergiler konulu fuarda görüşmek üzere: 

Web:www.aymod.com
E-Posta: bilgi@aymod.com
LOCATION:İstanbul Fuar Merkezi
END:VEVENT
END:VCALENDAR
