BEGIN:VCALENDAR
VERSION:2.0
PRODID:itakvim.com
METHOD:PUBLISH
UID:5c9b6153-e446-4e09-5293-08de9f183112
X-WR-CALNAME:Expo 3D Istanbul - Eklemeli İmalat, Tasarım Ve Üretim Teknolojileri Fuarı
X-ITAKVIM-LANGUAGE:tr
X-ITAKVIM-REGION:TR
CALSCALE:GREGORIAN
BEGIN:VEVENT
UID:5c9b6153-e446-4e09-5293-08de9f183112
DTSTAMP:20260420T200816Z
DTSTART:20260917T060000Z
DTEND:20260919T150000Z
TRANSP:TRANSPARENT
STATUS:CONFIRMED
SUMMARY:Expo 3D Istanbul - Eklemeli İmalat, Tasarım Ve Üretim Teknolojileri Fuarı
DESCRIPTION:Tam Fuarcılık Ve Organizasyon Anonim Şirketi tarafından düzenlenen eklemeli İmalat teknolojileri, dizayn ve üretim teknolojileri konulu fuarda görüşmek üzere: 

Web:www.expo3d.istanbul
E-Posta: ahmet@tamfuar.com
LOCATION:İstanbul Fuar Merkezi
END:VEVENT
END:VCALENDAR
