BEGIN:VCALENDAR
VERSION:2.0
PRODID:itakvim.com
METHOD:PUBLISH
UID:5d092267-a2a7-44d0-52ab-08de9f183112
X-WR-CALNAME:Prıvate Label Expo
X-ITAKVIM-LANGUAGE:tr
X-ITAKVIM-REGION:TR
CALSCALE:GREGORIAN
BEGIN:VEVENT
UID:5d092267-a2a7-44d0-52ab-08de9f183112
DTSTAMP:20260420T200816Z
DTSTART:20261125T060000Z
DTEND:20261128T150000Z
TRANSP:TRANSPARENT
STATUS:CONFIRMED
SUMMARY:Prıvate Label Expo
DESCRIPTION:Discover Events Fuar Ve Organizasyon Limited Şirketi tarafından düzenlenen gıda ,kozmetik ,giyim,aksesuar,tekstil,evcil hayvanlar ürünleri,ambalaj,etiket ve ambalaj ve paketleme makineleri konulu fuarda görüşmek üzere: 

Web:discoverevents.com.tr
E-Posta: info@discoverevents.com.tr
LOCATION:İstanbul Fuar Merkezi
END:VEVENT
END:VCALENDAR
