BEGIN:VCALENDAR
VERSION:2.0
PRODID:itakvim.com
METHOD:PUBLISH
UID:5d33a6be-d04b-4600-528b-08de9f183112
X-WR-CALNAME:F İstanbul Gıda İçecek Ürünleri Ve Üretim Teknolojileri; Bisküvi, Çikolata, Şekerli Ürünler Ve Üretim Teknolojileri; Kuru & Sert Kabuklu Meyveler & Atıştırmalik Ürünler Ve Üretim Teknolojileri, Gıda Ambalaj Endüstrisi Ve Katkı Maddeleri; Market Ve Mağaza Ekipmanları Fuarı
X-ITAKVIM-LANGUAGE:tr
X-ITAKVIM-REGION:TR
CALSCALE:GREGORIAN
BEGIN:VEVENT
UID:5d33a6be-d04b-4600-528b-08de9f183112
DTSTAMP:20260420T200816Z
DTSTART:20260826T060000Z
DTEND:20260829T150000Z
TRANSP:TRANSPARENT
STATUS:CONFIRMED
SUMMARY:F İstanbul Gıda İçecek Ürünleri Ve Üretim Teknolojileri; Bisküvi, Çikolata, Şekerli Ürünler Ve Üretim Teknolojileri; Kuru & Sert Kabuklu Meyveler & Atıştırmalik Ürünler Ve Üretim Teknolojileri, Gıda Ambalaj Endüstrisi Ve Katkı Maddeleri; Market Ve Mağaza Ekipmanları Fuarı
DESCRIPTION:1) Federal Fuar Organizasyon Anonim Şirketi 2) So Fuar Anonim Şirketi tarafından düzenlenen temel gıda, İçecek, şekerleme, kuruyemiş, makine, katkı, ambalaj, mağaza donanımları konulu fuarda görüşmek üzere: 

Web:www.f-istanbul.com
E-Posta: info@federalfuar.com
LOCATION:İstanbul Fuar Merkezi
END:VEVENT
END:VCALENDAR
