BEGIN:VCALENDAR
VERSION:2.0
PRODID:itakvim.com
METHOD:PUBLISH
UID:5eae7a67-52e4-44b9-d2a2-08de9f271cd7
X-WR-CALNAME:Aralık 2025 Dönemi Elektronik Defter Beratları Son Gün
X-ITAKVIM-LANGUAGE:tr
X-ITAKVIM-REGION:TR
CALSCALE:GREGORIAN
BEGIN:VEVENT
UID:5eae7a67-52e4-44b9-d2a2-08de9f271cd7
DTSTAMP:20260420T215235Z
DTSTART:20260514T140000Z
DTEND:20260514T140000Z
TRANSP:TRANSPARENT
STATUS:CONFIRMED
SUMMARY:Aralık 2025 Dönemi Elektronik Defter Beratları Son Gün
DESCRIPTION:Geçici Vergi Dönemleri Bazında Yükleme Tercihinde Bulunmuş Diğer Mükelleflerin Aralık 2025 Dönemine Ait Elektronik Defter Beratlarının Yüklenmesi
END:VEVENT
END:VCALENDAR
