BEGIN:VCALENDAR
VERSION:2.0
PRODID:itakvim.com
METHOD:PUBLISH
UID:5faf7a12-232e-48f6-5332-08de9f183112
X-WR-CALNAME:Ibıa Expo - 6. Uluslararası Yatak Yan Sanayi Ve Teknolojileri Fuarı
X-ITAKVIM-LANGUAGE:tr
X-ITAKVIM-REGION:TR
CALSCALE:GREGORIAN
BEGIN:VEVENT
UID:5faf7a12-232e-48f6-5332-08de9f183112
DTSTAMP:20260420T200817Z
DTSTART:20261028T060000Z
DTEND:20261031T150000Z
TRANSP:TRANSPARENT
STATUS:CONFIRMED
SUMMARY:Ibıa Expo - 6. Uluslararası Yatak Yan Sanayi Ve Teknolojileri Fuarı
DESCRIPTION:Birleşik Fuar Yapım Anonim Şirketi tarafından düzenlenen yatak yan sanayi ve teknolojileri konulu fuarda görüşmek üzere: 

Web:www.bifasfuar.com
E-Posta: info@bifasfuar.com
LOCATION:Wow Hotels & Conventıon Center
END:VEVENT
END:VCALENDAR
